BEGIN:VCALENDAR
VERSION:2.0
PRODID:-//Edinburgh Futures Institute - ECPv6.15.20//NONSGML v1.0//EN
CALSCALE:GREGORIAN
METHOD:PUBLISH
X-ORIGINAL-URL:https://efi.ed.ac.uk
X-WR-CALDESC:Events for Edinburgh Futures Institute
REFRESH-INTERVAL;VALUE=DURATION:PT1H
X-Robots-Tag:noindex
X-PUBLISHED-TTL:PT1H
BEGIN:VTIMEZONE
TZID:Europe/London
BEGIN:DAYLIGHT
TZOFFSETFROM:+0000
TZOFFSETTO:+0100
TZNAME:BST
DTSTART:20250330T010000
END:DAYLIGHT
BEGIN:STANDARD
TZOFFSETFROM:+0100
TZOFFSETTO:+0000
TZNAME:GMT
DTSTART:20251026T010000
END:STANDARD
BEGIN:DAYLIGHT
TZOFFSETFROM:+0000
TZOFFSETTO:+0100
TZNAME:BST
DTSTART:20260329T010000
END:DAYLIGHT
BEGIN:STANDARD
TZOFFSETFROM:+0100
TZOFFSETTO:+0000
TZNAME:GMT
DTSTART:20261025T010000
END:STANDARD
BEGIN:DAYLIGHT
TZOFFSETFROM:+0000
TZOFFSETTO:+0100
TZNAME:BST
DTSTART:20270328T010000
END:DAYLIGHT
BEGIN:STANDARD
TZOFFSETFROM:+0100
TZOFFSETTO:+0000
TZNAME:GMT
DTSTART:20271031T010000
END:STANDARD
END:VTIMEZONE
BEGIN:VEVENT
DTSTART;TZID=Europe/London:20260423T170000
DTEND;TZID=Europe/London:20260423T200000
DTSTAMP:20260422T150612
CREATED:20260422T125252Z
LAST-MODIFIED:20260422T131734Z
UID:10000354-1776963600-1776974400@efi.ed.ac.uk
SUMMARY:Venture Café Edinburgh Thursday Gathering
DESCRIPTION:People\, Planet\, Progress: How to Take Action this Earth Day\n\n\n\nCelebrate Earth Day this year with Venture Café Edinburgh and People Planet Pint! From a wine tasting that walks participants through how climate change is affecting the flavour of wines\, to drafting a hands-on decarbonisation action plans\, this will be a jam-packed event that both explores the challenges of the climate emergency\, and highlights solutions on the horizon.
URL:https://efi.ed.ac.uk/event/venture-cafe-edinburgh-thursday-gathering/
LOCATION:Edinburgh Futures Institute\, 1 Lauriston Place\, Edinburgh\, EH3 9EF\, United Kingdom
CATEGORIES:Venture Cafe Edinburgh Thursday Gatherings
ATTACH;FMTTYPE=image/jpeg:https://efi.ed.ac.uk/wp-content/uploads/2026/04/169-VCE-Photo.jpg
END:VEVENT
BEGIN:VEVENT
DTSTART;TZID=Europe/London:20260430T170000
DTEND;TZID=Europe/London:20260430T200000
DTSTAMP:20260422T150612
CREATED:20260422T130448Z
LAST-MODIFIED:20260422T131749Z
UID:10000356-1777568400-1777579200@efi.ed.ac.uk
SUMMARY:Venture Café Edinburgh Thursday Gathering
DESCRIPTION:The Intelligent Body: Exploring Programmable Immunity and the Future of Sustained Resilience\n\n\n\nModern medicine remains largely reactive\, relying on external interventions to address pathological states after they have already manifested. The Intelligent Body explores a paradigm shift: the transition from biology as a fixed\, immutable blueprint to biology as a programmable\, responsive platform. \n\n\n\nThe goal of this event is to move the conversation beyond “health” toward resilience by design. We’ll discuss the engineering challenges\, ethical considerations of resident genetic circuits\, and how Scottish innovation can advance the idea of a body that manages its own defence.
URL:https://efi.ed.ac.uk/event/venture-cafe-edinburgh-thursday-gathering-2/
LOCATION:Edinburgh Futures Institute\, 1 Lauriston Place\, Edinburgh\, EH3 9EF\, United Kingdom
CATEGORIES:Venture Cafe Edinburgh Thursday Gatherings
ATTACH;FMTTYPE=image/jpeg:https://efi.ed.ac.uk/wp-content/uploads/2026/04/169-VCE-Photo.jpg
END:VEVENT
END:VCALENDAR