BEGIN:VCALENDAR
VERSION:2.0
PRODID:-//Edinburgh Futures Institute - ECPv6.15.20//NONSGML v1.0//EN
CALSCALE:GREGORIAN
METHOD:PUBLISH
X-ORIGINAL-URL:https://efi.ed.ac.uk
X-WR-CALDESC:Events for Edinburgh Futures Institute
REFRESH-INTERVAL;VALUE=DURATION:PT1H
X-Robots-Tag:noindex
X-PUBLISHED-TTL:PT1H
BEGIN:VTIMEZONE
TZID:Europe/London
BEGIN:DAYLIGHT
TZOFFSETFROM:+0000
TZOFFSETTO:+0100
TZNAME:BST
DTSTART:20240331T010000
END:DAYLIGHT
BEGIN:STANDARD
TZOFFSETFROM:+0100
TZOFFSETTO:+0000
TZNAME:GMT
DTSTART:20241027T010000
END:STANDARD
BEGIN:DAYLIGHT
TZOFFSETFROM:+0000
TZOFFSETTO:+0100
TZNAME:BST
DTSTART:20250330T010000
END:DAYLIGHT
BEGIN:STANDARD
TZOFFSETFROM:+0100
TZOFFSETTO:+0000
TZNAME:GMT
DTSTART:20251026T010000
END:STANDARD
BEGIN:DAYLIGHT
TZOFFSETFROM:+0000
TZOFFSETTO:+0100
TZNAME:BST
DTSTART:20260329T010000
END:DAYLIGHT
BEGIN:STANDARD
TZOFFSETFROM:+0100
TZOFFSETTO:+0000
TZNAME:GMT
DTSTART:20261025T010000
END:STANDARD
END:VTIMEZONE
BEGIN:VEVENT
DTSTART;TZID=Europe/London:20251111T093000
DTEND;TZID=Europe/London:20251112T173000
DTSTAMP:20260418T111205
CREATED:20251009T101822Z
LAST-MODIFIED:20251016T121240Z
UID:10000296-1762853400-1762968600@efi.ed.ac.uk
SUMMARY:Media Literacy in the age of AI
DESCRIPTION:Important note: Applications close on Friday 31 October 2025 (23.59 UK time) \n\n\n\nAre you curious about how artificial intelligence algorithms are shaping what we see\, hear and believe online? \n\n\n\nAre you interested in connecting with peers and generate solutions to increase digital agency and address disinformation? \n\n\n\nJoin us on 11–12 November for a two-day training programme exploring media literacy in the age of AI. \n\n\n\nThe British Council and Edinburgh Futures Institute are pleased to invite you to participate in a two- day training programme to explore media literacy and generate solutions to address misinformation and disinformation. \n\n\n\nWe are inviting young people aged between 18 and 35 who are passionate about leading change to work together in interdisciplinary teams and create solutions on how disinformation can be addressed. We are aiming to bring together emerging changemakers to critically engage with the challenges and opportunities AI presents in media\, public discourse\, and civic life. \n\n\n\nThis event is part of British Council’s Youth Connect programme\, delivered in partnership with the Edinburgh Futures Institute and Think Young. \n\n\n\nDownload this document for more information \n\n\n\nHow to apply\n\n\n\nTo take part in the ideathon\, complete the online application form by Friday 31 October 2025 (23.59 UK time) \n\n\n\nApply now
URL:https://efi.ed.ac.uk/event/media-literacy-in-the-age-of-ai/
LOCATION:Edinburgh Futures Institute\, Edinburgh
CATEGORIES:Training
ATTACH;FMTTYPE=image/jpeg:https://efi.ed.ac.uk/wp-content/uploads/2025/10/BRITISH-COUNCIL_AI_Solas_800x450px_03102025-400kb-1.jpg
END:VEVENT
END:VCALENDAR